BEGIN:VCALENDAR
VERSION:2.0
PRODID:-//Greater Portland Transit, ME | Official Website - ECPv6.15.12.2//NONSGML v1.0//EN
CALSCALE:GREGORIAN
METHOD:PUBLISH
X-ORIGINAL-URL:https://www.gpmetro.org
X-WR-CALDESC:Events for Greater Portland Transit, ME | Official Website
REFRESH-INTERVAL;VALUE=DURATION:PT1H
X-Robots-Tag:noindex
X-PUBLISHED-TTL:PT1H
BEGIN:VTIMEZONE
TZID:America/New_York
BEGIN:DAYLIGHT
TZOFFSETFROM:-0500
TZOFFSETTO:-0400
TZNAME:EDT
DTSTART:20240310T070000
END:DAYLIGHT
BEGIN:STANDARD
TZOFFSETFROM:-0400
TZOFFSETTO:-0500
TZNAME:EST
DTSTART:20241103T060000
END:STANDARD
BEGIN:DAYLIGHT
TZOFFSETFROM:-0500
TZOFFSETTO:-0400
TZNAME:EDT
DTSTART:20250309T070000
END:DAYLIGHT
BEGIN:STANDARD
TZOFFSETFROM:-0400
TZOFFSETTO:-0500
TZNAME:EST
DTSTART:20251102T060000
END:STANDARD
BEGIN:DAYLIGHT
TZOFFSETFROM:-0500
TZOFFSETTO:-0400
TZNAME:EDT
DTSTART:20260308T070000
END:DAYLIGHT
BEGIN:STANDARD
TZOFFSETFROM:-0400
TZOFFSETTO:-0500
TZNAME:EST
DTSTART:20261101T060000
END:STANDARD
END:VTIMEZONE
BEGIN:VEVENT
DTSTART;TZID=America/New_York:20251016T153000
DTEND;TZID=America/New_York:20251016T170000
DTSTAMP:20260421T091704
CREATED:20251014T201019Z
LAST-MODIFIED:20251014T201334Z
UID:10000310-1760628600-1760634000@www.gpmetro.org
SUMMARY:Executive Committee Meeting
DESCRIPTION:Greater Portland Metro holds meeting of the Board of Directors and its Committee in hybrid format\, both in person and at Metro’s office\, located at 114 Valley Street in Portland\, Maine\, and via webinar. \nMetro Route 1 provides direct bus service to Metro’s administrative office at 114 Valley Street.
URL:https://www.gpmetro.org/event/executive-committee-meeting-8/
CATEGORIES:Executive Committee
END:VEVENT
END:VCALENDAR