BEGIN:VCALENDAR
VERSION:2.0
PRODID:-//Greater Portland Transit, ME | Official Website - ECPv6.15.12.2//NONSGML v1.0//EN
CALSCALE:GREGORIAN
METHOD:PUBLISH
X-ORIGINAL-URL:https://www.gpmetro.org
X-WR-CALDESC:Events for Greater Portland Transit, ME | Official Website
REFRESH-INTERVAL;VALUE=DURATION:PT1H
X-Robots-Tag:noindex
X-PUBLISHED-TTL:PT1H
BEGIN:VTIMEZONE
TZID:America/New_York
BEGIN:DAYLIGHT
TZOFFSETFROM:-0500
TZOFFSETTO:-0400
TZNAME:EDT
DTSTART:20240310T070000
END:DAYLIGHT
BEGIN:STANDARD
TZOFFSETFROM:-0400
TZOFFSETTO:-0500
TZNAME:EST
DTSTART:20241103T060000
END:STANDARD
BEGIN:DAYLIGHT
TZOFFSETFROM:-0500
TZOFFSETTO:-0400
TZNAME:EDT
DTSTART:20250309T070000
END:DAYLIGHT
BEGIN:STANDARD
TZOFFSETFROM:-0400
TZOFFSETTO:-0500
TZNAME:EST
DTSTART:20251102T060000
END:STANDARD
BEGIN:DAYLIGHT
TZOFFSETFROM:-0500
TZOFFSETTO:-0400
TZNAME:EDT
DTSTART:20260308T070000
END:DAYLIGHT
BEGIN:STANDARD
TZOFFSETFROM:-0400
TZOFFSETTO:-0500
TZNAME:EST
DTSTART:20261101T060000
END:STANDARD
BEGIN:DAYLIGHT
TZOFFSETFROM:-0500
TZOFFSETTO:-0400
TZNAME:EDT
DTSTART:20270314T070000
END:DAYLIGHT
BEGIN:STANDARD
TZOFFSETFROM:-0400
TZOFFSETTO:-0500
TZNAME:EST
DTSTART:20271107T060000
END:STANDARD
END:VTIMEZONE
BEGIN:VEVENT
DTSTART;TZID=America/New_York:20251224T153000
DTEND;TZID=America/New_York:20251224T170000
DTSTAMP:20260423T052005
CREATED:20250311T191244Z
LAST-MODIFIED:20250311T193356Z
UID:10000224-1766590200-1766595600@www.gpmetro.org
SUMMARY:Executive Committee Meeting
DESCRIPTION:Greater Portland Metro holds meeting of the Board of Directors and its Committee in hybrid format\, both in person and at Metro’s office\, located at 114 Valley Street in Portland\, Maine\, and via webinar. \nMetro Route 1 provides direct bus service to Metro’s administrative office at 114 Valley Street. \nPlease check back for agenda and (zoom) link for meeting.
URL:https://www.gpmetro.org/event/executive-committee-meeting/2025-12-24/
CATEGORIES:Executive Committee
END:VEVENT
BEGIN:VEVENT
DTSTART;TZID=America/New_York:20260128T153000
DTEND;TZID=America/New_York:20260128T170000
DTSTAMP:20260423T052005
CREATED:20260123T203235Z
LAST-MODIFIED:20260123T203301Z
UID:10000317-1769614200-1769619600@www.gpmetro.org
SUMMARY:Executive Committee Meeting
DESCRIPTION:
URL:https://www.gpmetro.org/event/executive-committee-meeting-6-2/
LOCATION:Greater Portland Metro – Admin Conference Room\, 114 Valley Street\, Portland\, ME\, 04102\, United States
CATEGORIES:Executive Committee
END:VEVENT
BEGIN:VEVENT
DTSTART;TZID=America/New_York:20260223T153000
DTEND;TZID=America/New_York:20260223T170000
DTSTAMP:20260423T052005
CREATED:20260218T162524Z
LAST-MODIFIED:20260218T162525Z
UID:10000475-1771860600-1771866000@www.gpmetro.org
SUMMARY:Executive Committee Meeting
DESCRIPTION:
URL:https://www.gpmetro.org/event/executive-committee-meeting-6-3/
LOCATION:Greater Portland Metro – Admin Conference Room\, 114 Valley Street\, Portland\, ME\, 04102\, United States
CATEGORIES:Executive Committee
END:VEVENT
BEGIN:VEVENT
DTSTART;TZID=America/New_York:20260325T153000
DTEND;TZID=America/New_York:20260325T170000
DTSTAMP:20260423T052005
CREATED:20260320T141404Z
LAST-MODIFIED:20260320T141640Z
UID:10000476-1774452600-1774458000@www.gpmetro.org
SUMMARY:Executive Committee Meeting
DESCRIPTION:
URL:https://www.gpmetro.org/event/executive-committee-meeting-6-4/
LOCATION:Greater Portland Metro – Admin Conference Room\, 114 Valley Street\, Portland\, ME\, 04102\, United States
CATEGORIES:Executive Committee
END:VEVENT
BEGIN:VEVENT
DTSTART;TZID=America/New_York:20260429T153000
DTEND;TZID=America/New_York:20260429T170000
DTSTAMP:20260423T052005
CREATED:20260107T134135Z
LAST-MODIFIED:20260406T122227Z
UID:10000506-1777476600-1777482000@www.gpmetro.org
SUMMARY:Executive Committee Meeting
DESCRIPTION:
URL:https://www.gpmetro.org/event/executive-committee-meeting-6/2026-04-29/
LOCATION:Greater Portland Metro – Admin Conference Room\, 114 Valley Street\, Portland\, ME\, 04102\, United States
CATEGORIES:Executive Committee
END:VEVENT
BEGIN:VEVENT
DTSTART;TZID=America/New_York:20260527T153000
DTEND;TZID=America/New_York:20260527T163000
DTSTAMP:20260423T052005
CREATED:20260324T192117Z
LAST-MODIFIED:20260324T192124Z
UID:10000500-1779895800-1779899400@www.gpmetro.org
SUMMARY:Executive Committee
DESCRIPTION:
URL:https://www.gpmetro.org/event/executive-committee-2/
CATEGORIES:Executive Committee
END:VEVENT
BEGIN:VEVENT
DTSTART;TZID=America/New_York:20260729T153000
DTEND;TZID=America/New_York:20260729T170000
DTSTAMP:20260423T052005
CREATED:20260107T134135Z
LAST-MODIFIED:20260406T122227Z
UID:10000507-1785339000-1785344400@www.gpmetro.org
SUMMARY:Executive Committee Meeting
DESCRIPTION:
URL:https://www.gpmetro.org/event/executive-committee-meeting-6/2026-07-29/
LOCATION:Greater Portland Metro – Admin Conference Room\, 114 Valley Street\, Portland\, ME\, 04102\, United States
CATEGORIES:Executive Committee
END:VEVENT
BEGIN:VEVENT
DTSTART;TZID=America/New_York:20260930T153000
DTEND;TZID=America/New_York:20260930T170000
DTSTAMP:20260423T052005
CREATED:20260107T134135Z
LAST-MODIFIED:20260406T122227Z
UID:10000508-1790782200-1790787600@www.gpmetro.org
SUMMARY:Executive Committee Meeting
DESCRIPTION:
URL:https://www.gpmetro.org/event/executive-committee-meeting-6/2026-09-30/
LOCATION:Greater Portland Metro – Admin Conference Room\, 114 Valley Street\, Portland\, ME\, 04102\, United States
CATEGORIES:Executive Committee
END:VEVENT
BEGIN:VEVENT
DTSTART;TZID=America/New_York:20261230T153000
DTEND;TZID=America/New_York:20261230T170000
DTSTAMP:20260423T052005
CREATED:20260107T134135Z
LAST-MODIFIED:20260406T122227Z
UID:10000509-1798644600-1798650000@www.gpmetro.org
SUMMARY:Executive Committee Meeting
DESCRIPTION:
URL:https://www.gpmetro.org/event/executive-committee-meeting-6/2026-12-30/
LOCATION:Greater Portland Metro – Admin Conference Room\, 114 Valley Street\, Portland\, ME\, 04102\, United States
CATEGORIES:Executive Committee
END:VEVENT
END:VCALENDAR