BEGIN:VCALENDAR
VERSION:2.0
PRODID:-//Greater Portland Transit, ME | Official Website - ECPv6.15.12.2//NONSGML v1.0//EN
CALSCALE:GREGORIAN
METHOD:PUBLISH
X-ORIGINAL-URL:https://www.gpmetro.org
X-WR-CALDESC:Events for Greater Portland Transit, ME | Official Website
REFRESH-INTERVAL;VALUE=DURATION:PT1H
X-Robots-Tag:noindex
X-PUBLISHED-TTL:PT1H
BEGIN:VTIMEZONE
TZID:America/New_York
BEGIN:DAYLIGHT
TZOFFSETFROM:-0500
TZOFFSETTO:-0400
TZNAME:EDT
DTSTART:20240310T070000
END:DAYLIGHT
BEGIN:STANDARD
TZOFFSETFROM:-0400
TZOFFSETTO:-0500
TZNAME:EST
DTSTART:20241103T060000
END:STANDARD
BEGIN:DAYLIGHT
TZOFFSETFROM:-0500
TZOFFSETTO:-0400
TZNAME:EDT
DTSTART:20250309T070000
END:DAYLIGHT
BEGIN:STANDARD
TZOFFSETFROM:-0400
TZOFFSETTO:-0500
TZNAME:EST
DTSTART:20251102T060000
END:STANDARD
BEGIN:DAYLIGHT
TZOFFSETFROM:-0500
TZOFFSETTO:-0400
TZNAME:EDT
DTSTART:20260308T070000
END:DAYLIGHT
BEGIN:STANDARD
TZOFFSETFROM:-0400
TZOFFSETTO:-0500
TZNAME:EST
DTSTART:20261101T060000
END:STANDARD
END:VTIMEZONE
BEGIN:VEVENT
DTSTART;TZID=America/New_York:20251115T140000
DTEND;TZID=America/New_York:20251115T160000
DTSTAMP:20260420T061233
CREATED:20251021T144113Z
LAST-MODIFIED:20251021T144816Z
UID:10000313-1763215200-1763222400@www.gpmetro.org
SUMMARY:Next Stop: South Portland | Scarborough: Scarborough Meeting
DESCRIPTION:  \n\n\n\nJoin us for an in-person public meeting to discuss the future of Metro bus service in South Portland and Scarborough! After a brief presentation\, we’ll have a workshop-style meeting where we’ll be asking you to tell us how transit can work better for you. We’ll discuss: \n\n\n\n\nThe difficulties with using transit in South Portland and Scarborough today\n\n\n\nThe types of improvements that are possible within our budget\n\n\n\nPrioritizing coverage vs. frequency\n\n\n\nMicrotransit\n\n\n\n\nAnd we’ll want to hear from you about: \n\n\n\n\nKey origin and destinations within South Portland\, Scarborough\, and beyond\n\n\n\nYour priorities for transit in South Portland and Scarborough\n\nDirect service to many destinations\n\n\n\nFast\, frequent service\n\n\n\nWeekend service\n\n\n\nService hours\n\n\n\n\n\n\nFor more information on this project\, visit www.gpmetro.org/nextstop. You can also fill out the survey and sign up for our mailing list. \n\n\n\nCan’t make the meeting? We’ll also be meeting on Saturday\, November 1\, 2025 at the main library in South Portland  (482 Broadway)  and Wednesday\, November 12\, 2025 via Zoom.
URL:https://www.gpmetro.org/event/next-stop-south-portland-scarborough-scarborough-meeting/
LOCATION:Public Safety Building\, 275 US Route 1\, Scarborough\, 04074
CATEGORIES:Public Meetings,Rider Events
ATTACH;FMTTYPE=image/jpeg:https://www.gpmetro.org/wp-content/uploads/2025/10/all-clips-2-00-16-15-12-still068.jpg
END:VEVENT
BEGIN:VEVENT
DTSTART;TZID=America/New_York:20251127T000000
DTEND;TZID=America/New_York:20251127T235959
DTSTAMP:20260420T061233
CREATED:20250127T074921Z
LAST-MODIFIED:20250127T080249Z
UID:10000108-1764201600-1764287999@www.gpmetro.org
SUMMARY:No Bus Service - Thanksgiving Day: November 27
DESCRIPTION:
URL:https://www.gpmetro.org/event/no-bus-service-thanksgiving-day-november-27/
CATEGORIES:Holiday Schedule,No Service,Rider Events
END:VEVENT
BEGIN:VEVENT
DTSTART;TZID=America/New_York:20251128T000000
DTEND;TZID=America/New_York:20251128T235959
DTSTAMP:20260420T061233
CREATED:20250127T075648Z
LAST-MODIFIED:20250127T080248Z
UID:10000122-1764288000-1764374399@www.gpmetro.org
SUMMARY:Regular Bus Service - Day after Thanksgiving: November 28
DESCRIPTION:Regular Metro Service\nMetro Pulse at Elm St.  OPEN
URL:https://www.gpmetro.org/event/regular-bus-service-day-after-thanksgiving-november-28/
CATEGORIES:Holiday Schedule,Regular Service,Rider Events
END:VEVENT
BEGIN:VEVENT
DTSTART;TZID=America/New_York:20251224T000000
DTEND;TZID=America/New_York:20251224T235959
DTSTAMP:20260420T061233
CREATED:20250127T075631Z
LAST-MODIFIED:20251217T140815Z
UID:10000121-1766534400-1766620799@www.gpmetro.org
SUMMARY:Regular Bus Service on December 24\, Christmas Eve\, until 7pm. (no outbound service after 7pm)
DESCRIPTION:Regular Bus Service during the daytime; no service after 7pm.\nChristmas Eve service schedule for each route.
URL:https://www.gpmetro.org/event/regular-bus-service-christmas-eve-december-24/
CATEGORIES:Holiday Schedule,Regular Service,Rider Events
END:VEVENT
BEGIN:VEVENT
DTSTART;TZID=America/New_York:20251225T000000
DTEND;TZID=America/New_York:20251225T235959
DTSTAMP:20260420T061233
CREATED:20250127T074848Z
LAST-MODIFIED:20250127T080249Z
UID:10000107-1766620800-1766707199@www.gpmetro.org
SUMMARY:No Bus Service - Christmas Day: December 25
DESCRIPTION:
URL:https://www.gpmetro.org/event/no-bus-service-christmas-day-december-25/
CATEGORIES:Holiday Schedule,No Service,Rider Events
END:VEVENT
END:VCALENDAR