BEGIN:VCALENDAR
VERSION:2.0
PRODID:-//Greater Portland Transit, ME | Official Website - ECPv6.15.12.2//NONSGML v1.0//EN
CALSCALE:GREGORIAN
METHOD:PUBLISH
X-WR-CALNAME:Greater Portland Transit, ME | Official Website
X-ORIGINAL-URL:https://www.gpmetro.org
X-WR-CALDESC:Events for Greater Portland Transit, ME | Official Website
REFRESH-INTERVAL;VALUE=DURATION:PT1H
X-Robots-Tag:noindex
X-PUBLISHED-TTL:PT1H
BEGIN:VTIMEZONE
TZID:America/New_York
BEGIN:DAYLIGHT
TZOFFSETFROM:-0500
TZOFFSETTO:-0400
TZNAME:EDT
DTSTART:20250309T070000
END:DAYLIGHT
BEGIN:STANDARD
TZOFFSETFROM:-0400
TZOFFSETTO:-0500
TZNAME:EST
DTSTART:20251102T060000
END:STANDARD
BEGIN:DAYLIGHT
TZOFFSETFROM:-0500
TZOFFSETTO:-0400
TZNAME:EDT
DTSTART:20260308T070000
END:DAYLIGHT
BEGIN:STANDARD
TZOFFSETFROM:-0400
TZOFFSETTO:-0500
TZNAME:EST
DTSTART:20261101T060000
END:STANDARD
BEGIN:DAYLIGHT
TZOFFSETFROM:-0500
TZOFFSETTO:-0400
TZNAME:EDT
DTSTART:20270314T070000
END:DAYLIGHT
BEGIN:STANDARD
TZOFFSETFROM:-0400
TZOFFSETTO:-0500
TZNAME:EST
DTSTART:20271107T060000
END:STANDARD
BEGIN:DAYLIGHT
TZOFFSETFROM:-0500
TZOFFSETTO:-0400
TZNAME:EDT
DTSTART:20280312T070000
END:DAYLIGHT
BEGIN:STANDARD
TZOFFSETFROM:-0400
TZOFFSETTO:-0500
TZNAME:EST
DTSTART:20281105T060000
END:STANDARD
END:VTIMEZONE
BEGIN:VEVENT
DTSTART;TZID=America/New_York:20260429T153000
DTEND;TZID=America/New_York:20260429T170000
DTSTAMP:20260425T111330
CREATED:20260424T165312Z
LAST-MODIFIED:20260424T165407Z
UID:10000506-1777476600-1777482000@www.gpmetro.org
SUMMARY:Executive Committee Meeting
DESCRIPTION:Share
URL:https://www.gpmetro.org/event/executive-committee-meeting-6-5/
LOCATION:Greater Portland Metro – Admin Conference Room\, 114 Valley Street\, Portland\, ME\, 04102\, United States
CATEGORIES:Executive Committee
END:VEVENT
BEGIN:VEVENT
DTSTART;TZID=America/New_York:20260513T153000
DTEND;TZID=America/New_York:20260513T163000
DTSTAMP:20260425T111330
CREATED:20260109T203633Z
LAST-MODIFIED:20260112T194647Z
UID:10000437-1778686200-1778689800@www.gpmetro.org
SUMMARY:Marketing and Communications Committee
DESCRIPTION:Topic: Metro Marketing and Communications Committee MeetingJoin from PC\, Mac\, iPad\, or Android:\nhttps://us02web.zoom.us/j/86595032479?pwd=osVQcjhTJlma7Y5dY1PiMWaaluV9fk.1\nPasscode:414334\n\nPhone one-tap:\n+16469313860\,\,86595032479# US\n+13017158592\,\,86595032479# US (Washington DC)\n\nJoin via audio:\n+1 646 931 3860 US\n+1 301 715 8592 US (Washington DC)Webinar ID: 865 9503 2479International numbers available: https://us02web.zoom.us/u/kgIlW8dbG \n\nShare
URL:https://www.gpmetro.org/event/marketing-and-communications-committee-6/2026-05-13/
LOCATION:Greater Portland Metro – Admin Conference Room\, 114 Valley Street\, Portland\, ME\, 04102\, United States
END:VEVENT
BEGIN:VEVENT
DTSTART;TZID=America/New_York:20260513T153000
DTEND;TZID=America/New_York:20260513T163000
DTSTAMP:20260425T111330
CREATED:20260121T132256Z
LAST-MODIFIED:20260121T132256Z
UID:10000468-1778686200-1778689800@www.gpmetro.org
SUMMARY:Marketing and Communications Committee
DESCRIPTION:Share
URL:https://www.gpmetro.org/event/marketing-and-communications-committee-4/2026-05-13/
LOCATION:Greater Portland Metro – Admin Conference Room\, 114 Valley Street\, Portland\, ME\, 04102\, United States
CATEGORIES:Marketing and Communications Committee
END:VEVENT
BEGIN:VEVENT
DTSTART;TZID=America/New_York:20260525T000000
DTEND;TZID=America/New_York:20260525T235959
DTSTAMP:20260425T111330
CREATED:20260112T201512Z
LAST-MODIFIED:20260112T201512Z
UID:10000452-1779667200-1779753599@www.gpmetro.org
SUMMARY:Memorial Day -  May 25\, 2026 - No Bus Service
DESCRIPTION:Share
URL:https://www.gpmetro.org/event/memorial-day-may-25-2026-no-bus-service/
CATEGORIES:Holiday Schedule
END:VEVENT
BEGIN:VEVENT
DTSTART;TZID=America/New_York:20260527T153000
DTEND;TZID=America/New_York:20260527T163000
DTSTAMP:20260425T111330
CREATED:20260324T192117Z
LAST-MODIFIED:20260324T192124Z
UID:10000500-1779895800-1779899400@www.gpmetro.org
SUMMARY:Executive Committee
DESCRIPTION:Share
URL:https://www.gpmetro.org/event/executive-committee-2/
CATEGORIES:Executive Committee
END:VEVENT
BEGIN:VEVENT
DTSTART;TZID=America/New_York:20260619T000000
DTEND;TZID=America/New_York:20260619T235959
DTSTAMP:20260425T111330
CREATED:20260112T201744Z
LAST-MODIFIED:20260112T201744Z
UID:10000453-1781827200-1781913599@www.gpmetro.org
SUMMARY:Juneteenth - June 19\, 2026 - Regular Bus Service
DESCRIPTION:Share
URL:https://www.gpmetro.org/event/juneteenth-june-19-2026-regular-bus-service/
CATEGORIES:Holiday Schedule
END:VEVENT
BEGIN:VEVENT
DTSTART;TZID=America/New_York:20260625T160000
DTEND;TZID=America/New_York:20260625T173000
DTSTAMP:20260425T111330
CREATED:20260112T194939Z
LAST-MODIFIED:20260112T194939Z
UID:10000447-1782403200-1782408600@www.gpmetro.org
SUMMARY:Board of Director's Meeting - June 25\, 2026
DESCRIPTION:Share
URL:https://www.gpmetro.org/event/board-of-directors-meeting-june-25-2026/
END:VEVENT
BEGIN:VEVENT
DTSTART;TZID=America/New_York:20260704T000000
DTEND;TZID=America/New_York:20260704T235959
DTSTAMP:20260425T111330
CREATED:20260112T202726Z
LAST-MODIFIED:20260112T202902Z
UID:10000455-1783123200-1783209599@www.gpmetro.org
SUMMARY:Independence Day - Saturday\, July  4 - No Bus Service
DESCRIPTION:Share
URL:https://www.gpmetro.org/event/independence-day-saturday-july-4-no-bus-service/
CATEGORIES:Holiday Schedule
END:VEVENT
BEGIN:VEVENT
DTSTART;TZID=America/New_York:20260708T153000
DTEND;TZID=America/New_York:20260708T163000
DTSTAMP:20260425T111330
CREATED:20260109T203633Z
LAST-MODIFIED:20260112T194647Z
UID:10000439-1783524600-1783528200@www.gpmetro.org
SUMMARY:Marketing and Communications Committee
DESCRIPTION:Topic: Metro Marketing and Communications Committee MeetingJoin from PC\, Mac\, iPad\, or Android:\nhttps://us02web.zoom.us/j/86595032479?pwd=osVQcjhTJlma7Y5dY1PiMWaaluV9fk.1\nPasscode:414334\n\nPhone one-tap:\n+16469313860\,\,86595032479# US\n+13017158592\,\,86595032479# US (Washington DC)\n\nJoin via audio:\n+1 646 931 3860 US\n+1 301 715 8592 US (Washington DC)Webinar ID: 865 9503 2479International numbers available: https://us02web.zoom.us/u/kgIlW8dbG \n\nShare
URL:https://www.gpmetro.org/event/marketing-and-communications-committee-6/2026-07-08/
LOCATION:Greater Portland Metro – Admin Conference Room\, 114 Valley Street\, Portland\, ME\, 04102\, United States
END:VEVENT
BEGIN:VEVENT
DTSTART;TZID=America/New_York:20260708T153000
DTEND;TZID=America/New_York:20260708T163000
DTSTAMP:20260425T111330
CREATED:20260121T132256Z
LAST-MODIFIED:20260121T132256Z
UID:10000469-1783524600-1783528200@www.gpmetro.org
SUMMARY:Marketing and Communications Committee
DESCRIPTION:Share
URL:https://www.gpmetro.org/event/marketing-and-communications-committee-4/2026-07-08/
LOCATION:Greater Portland Metro – Admin Conference Room\, 114 Valley Street\, Portland\, ME\, 04102\, United States
CATEGORIES:Marketing and Communications Committee
END:VEVENT
BEGIN:VEVENT
DTSTART;TZID=America/New_York:20260729T153000
DTEND;TZID=America/New_York:20260729T170000
DTSTAMP:20260425T111330
CREATED:20260107T134135Z
LAST-MODIFIED:20260406T122227Z
UID:10000507-1785339000-1785344400@www.gpmetro.org
SUMMARY:Executive Committee Meeting
DESCRIPTION:Share
URL:https://www.gpmetro.org/event/executive-committee-meeting-6/2026-07-29/
LOCATION:Greater Portland Metro – Admin Conference Room\, 114 Valley Street\, Portland\, ME\, 04102\, United States
CATEGORIES:Executive Committee
END:VEVENT
BEGIN:VEVENT
DTSTART;TZID=America/New_York:20260812T153000
DTEND;TZID=America/New_York:20260812T163000
DTSTAMP:20260425T111330
CREATED:20260109T203633Z
LAST-MODIFIED:20260112T194647Z
UID:10000440-1786548600-1786552200@www.gpmetro.org
SUMMARY:Marketing and Communications Committee
DESCRIPTION:Topic: Metro Marketing and Communications Committee MeetingJoin from PC\, Mac\, iPad\, or Android:\nhttps://us02web.zoom.us/j/86595032479?pwd=osVQcjhTJlma7Y5dY1PiMWaaluV9fk.1\nPasscode:414334\n\nPhone one-tap:\n+16469313860\,\,86595032479# US\n+13017158592\,\,86595032479# US (Washington DC)\n\nJoin via audio:\n+1 646 931 3860 US\n+1 301 715 8592 US (Washington DC)Webinar ID: 865 9503 2479International numbers available: https://us02web.zoom.us/u/kgIlW8dbG \n\nShare
URL:https://www.gpmetro.org/event/marketing-and-communications-committee-6/2026-08-12/
LOCATION:Greater Portland Metro – Admin Conference Room\, 114 Valley Street\, Portland\, ME\, 04102\, United States
END:VEVENT
BEGIN:VEVENT
DTSTART;TZID=America/New_York:20260812T153000
DTEND;TZID=America/New_York:20260812T163000
DTSTAMP:20260425T111330
CREATED:20260121T132256Z
LAST-MODIFIED:20260121T132256Z
UID:10000470-1786548600-1786552200@www.gpmetro.org
SUMMARY:Marketing and Communications Committee
DESCRIPTION:Share
URL:https://www.gpmetro.org/event/marketing-and-communications-committee-4/2026-08-12/
LOCATION:Greater Portland Metro – Admin Conference Room\, 114 Valley Street\, Portland\, ME\, 04102\, United States
CATEGORIES:Marketing and Communications Committee
END:VEVENT
BEGIN:VEVENT
DTSTART;TZID=America/New_York:20260907T000000
DTEND;TZID=America/New_York:20260907T235959
DTSTAMP:20260425T111330
CREATED:20260112T203057Z
LAST-MODIFIED:20260112T203200Z
UID:10000456-1788739200-1788825599@www.gpmetro.org
SUMMARY:Labor Day - September 7\, 2026 - No Bus Service
DESCRIPTION:Share
URL:https://www.gpmetro.org/event/labor-day-september-7-2026-no-bus-service/
CATEGORIES:Holiday Schedule
END:VEVENT
BEGIN:VEVENT
DTSTART;TZID=America/New_York:20260909T153000
DTEND;TZID=America/New_York:20260909T163000
DTSTAMP:20260425T111330
CREATED:20260109T203633Z
LAST-MODIFIED:20260112T194647Z
UID:10000441-1788967800-1788971400@www.gpmetro.org
SUMMARY:Marketing and Communications Committee
DESCRIPTION:Topic: Metro Marketing and Communications Committee MeetingJoin from PC\, Mac\, iPad\, or Android:\nhttps://us02web.zoom.us/j/86595032479?pwd=osVQcjhTJlma7Y5dY1PiMWaaluV9fk.1\nPasscode:414334\n\nPhone one-tap:\n+16469313860\,\,86595032479# US\n+13017158592\,\,86595032479# US (Washington DC)\n\nJoin via audio:\n+1 646 931 3860 US\n+1 301 715 8592 US (Washington DC)Webinar ID: 865 9503 2479International numbers available: https://us02web.zoom.us/u/kgIlW8dbG \n\nShare
URL:https://www.gpmetro.org/event/marketing-and-communications-committee-6/2026-09-09/
LOCATION:Greater Portland Metro – Admin Conference Room\, 114 Valley Street\, Portland\, ME\, 04102\, United States
END:VEVENT
BEGIN:VEVENT
DTSTART;TZID=America/New_York:20260909T153000
DTEND;TZID=America/New_York:20260909T163000
DTSTAMP:20260425T111330
CREATED:20260121T132256Z
LAST-MODIFIED:20260121T132256Z
UID:10000471-1788967800-1788971400@www.gpmetro.org
SUMMARY:Marketing and Communications Committee
DESCRIPTION:Share
URL:https://www.gpmetro.org/event/marketing-and-communications-committee-4/2026-09-09/
LOCATION:Greater Portland Metro – Admin Conference Room\, 114 Valley Street\, Portland\, ME\, 04102\, United States
CATEGORIES:Marketing and Communications Committee
END:VEVENT
BEGIN:VEVENT
DTSTART;TZID=America/New_York:20260930T153000
DTEND;TZID=America/New_York:20260930T170000
DTSTAMP:20260425T111330
CREATED:20260107T134135Z
LAST-MODIFIED:20260406T122227Z
UID:10000508-1790782200-1790787600@www.gpmetro.org
SUMMARY:Executive Committee Meeting
DESCRIPTION:Share
URL:https://www.gpmetro.org/event/executive-committee-meeting-6/2026-09-30/
LOCATION:Greater Portland Metro – Admin Conference Room\, 114 Valley Street\, Portland\, ME\, 04102\, United States
CATEGORIES:Executive Committee
END:VEVENT
BEGIN:VEVENT
DTSTART;TZID=America/New_York:20261012T000000
DTEND;TZID=America/New_York:20261012T235959
DTSTAMP:20260425T111330
CREATED:20260112T203443Z
LAST-MODIFIED:20260112T203503Z
UID:10000457-1791763200-1791849599@www.gpmetro.org
SUMMARY:Indigenous Peoples' Day - October 12\, 2026 - Regular Bus Service
DESCRIPTION:Share
URL:https://www.gpmetro.org/event/indigenous-peoples-day-october-12-2026-regular-bus-service/
CATEGORIES:Holiday Schedule
END:VEVENT
BEGIN:VEVENT
DTSTART;TZID=America/New_York:20261014T153000
DTEND;TZID=America/New_York:20261014T163000
DTSTAMP:20260425T111330
CREATED:20260121T132256Z
LAST-MODIFIED:20260121T132256Z
UID:10000472-1791991800-1791995400@www.gpmetro.org
SUMMARY:Marketing and Communications Committee
DESCRIPTION:Share
URL:https://www.gpmetro.org/event/marketing-and-communications-committee-4/2026-10-14/
LOCATION:Greater Portland Metro – Admin Conference Room\, 114 Valley Street\, Portland\, ME\, 04102\, United States
CATEGORIES:Marketing and Communications Committee
END:VEVENT
BEGIN:VEVENT
DTSTART;TZID=America/New_York:20261029T160000
DTEND;TZID=America/New_York:20261029T173000
DTSTAMP:20260425T111330
CREATED:20260112T195105Z
LAST-MODIFIED:20260112T195105Z
UID:10000448-1793289600-1793295000@www.gpmetro.org
SUMMARY:Board of Director's Meeting - October 29\, 2026
DESCRIPTION:Share
URL:https://www.gpmetro.org/event/board-of-directors-meeting-october-29-2026/
LOCATION:Greater Portland Metro – Admin Conference Room\, 114 Valley Street\, Portland\, ME\, 04102\, United States
END:VEVENT
BEGIN:VEVENT
DTSTART;TZID=America/New_York:20261103T000000
DTEND;TZID=America/New_York:20261103T235959
DTSTAMP:20260425T111330
CREATED:20260112T203943Z
LAST-MODIFIED:20260112T203943Z
UID:10000462-1793664000-1793750399@www.gpmetro.org
SUMMARY:Election Day - Tuesday\, November 3 - FREE Bus Rides
DESCRIPTION:Share
URL:https://www.gpmetro.org/event/election-day-tuesday-november-3-free-bus-rides/
END:VEVENT
BEGIN:VEVENT
DTSTART;TZID=America/New_York:20261111T000000
DTEND;TZID=America/New_York:20261111T235959
DTSTAMP:20260425T111330
CREATED:20260112T203604Z
LAST-MODIFIED:20260112T203604Z
UID:10000458-1794355200-1794441599@www.gpmetro.org
SUMMARY:Veterans Day - November 11\, 2026 - Regular Bus Service
DESCRIPTION:Share
URL:https://www.gpmetro.org/event/veterans-day-november-11-2026-regular-bus-service/
END:VEVENT
BEGIN:VEVENT
DTSTART;TZID=America/New_York:20261111T153000
DTEND;TZID=America/New_York:20261111T163000
DTSTAMP:20260425T111330
CREATED:20260109T203633Z
LAST-MODIFIED:20260112T194647Z
UID:10000443-1794411000-1794414600@www.gpmetro.org
SUMMARY:Marketing and Communications Committee
DESCRIPTION:Topic: Metro Marketing and Communications Committee MeetingJoin from PC\, Mac\, iPad\, or Android:\nhttps://us02web.zoom.us/j/86595032479?pwd=osVQcjhTJlma7Y5dY1PiMWaaluV9fk.1\nPasscode:414334\n\nPhone one-tap:\n+16469313860\,\,86595032479# US\n+13017158592\,\,86595032479# US (Washington DC)\n\nJoin via audio:\n+1 646 931 3860 US\n+1 301 715 8592 US (Washington DC)Webinar ID: 865 9503 2479International numbers available: https://us02web.zoom.us/u/kgIlW8dbG \n\nShare
URL:https://www.gpmetro.org/event/marketing-and-communications-committee-6/2026-11-11/
LOCATION:Greater Portland Metro – Admin Conference Room\, 114 Valley Street\, Portland\, ME\, 04102\, United States
END:VEVENT
BEGIN:VEVENT
DTSTART;TZID=America/New_York:20261111T153000
DTEND;TZID=America/New_York:20261111T163000
DTSTAMP:20260425T111330
CREATED:20260121T132256Z
LAST-MODIFIED:20260121T132256Z
UID:10000473-1794411000-1794414600@www.gpmetro.org
SUMMARY:Marketing and Communications Committee
DESCRIPTION:Share
URL:https://www.gpmetro.org/event/marketing-and-communications-committee-4/2026-11-11/
LOCATION:Greater Portland Metro – Admin Conference Room\, 114 Valley Street\, Portland\, ME\, 04102\, United States
CATEGORIES:Marketing and Communications Committee
END:VEVENT
BEGIN:VEVENT
DTSTART;TZID=America/New_York:20261126T000000
DTEND;TZID=America/New_York:20261126T235959
DTSTAMP:20260425T111330
CREATED:20260112T203657Z
LAST-MODIFIED:20260112T203657Z
UID:10000459-1795651200-1795737599@www.gpmetro.org
SUMMARY:Thanksgiving - November 26\, 2026 - No Bus Service
DESCRIPTION:Share
URL:https://www.gpmetro.org/event/thanksgiving-november-26-2026-no-bus-service/
CATEGORIES:Holiday Schedule
END:VEVENT
BEGIN:VEVENT
DTSTART;TZID=America/New_York:20261210T160000
DTEND;TZID=America/New_York:20261210T173000
DTSTAMP:20260425T111330
CREATED:20260112T195244Z
LAST-MODIFIED:20260112T195244Z
UID:10000449-1796918400-1796923800@www.gpmetro.org
SUMMARY:Board of Director's Meeting - December 10\, 2026
DESCRIPTION:Share
URL:https://www.gpmetro.org/event/board-of-directors-meeting-december-10-2026/
LOCATION:Greater Portland Metro – Admin Conference Room\, 114 Valley Street\, Portland\, ME\, 04102\, United States
END:VEVENT
BEGIN:VEVENT
DTSTART;TZID=America/New_York:20261224T000000
DTEND;TZID=America/New_York:20261224T235959
DTSTAMP:20260425T111330
CREATED:20260112T203854Z
LAST-MODIFIED:20260112T203854Z
UID:10000461-1798070400-1798156799@www.gpmetro.org
SUMMARY:Christmas Eve - December 24\, 2026
DESCRIPTION:Regular daytime schedule\, no outbound trips after 7pm. \nShare
URL:https://www.gpmetro.org/event/christmas-eve-december-24-2026/
END:VEVENT
BEGIN:VEVENT
DTSTART;TZID=America/New_York:20261225T000000
DTEND;TZID=America/New_York:20261225T235959
DTSTAMP:20260425T111330
CREATED:20260112T203754Z
LAST-MODIFIED:20260112T203754Z
UID:10000460-1798156800-1798243199@www.gpmetro.org
SUMMARY:Christmas Day - December 25\, 2026 - No Bus Service
DESCRIPTION:Share
URL:https://www.gpmetro.org/event/christmas-day-december-25-2026-no-bus-service/
CATEGORIES:Holiday Schedule
END:VEVENT
BEGIN:VEVENT
DTSTART;TZID=America/New_York:20261230T153000
DTEND;TZID=America/New_York:20261230T170000
DTSTAMP:20260425T111330
CREATED:20260107T134135Z
LAST-MODIFIED:20260406T122227Z
UID:10000509-1798644600-1798650000@www.gpmetro.org
SUMMARY:Executive Committee Meeting
DESCRIPTION:Share
URL:https://www.gpmetro.org/event/executive-committee-meeting-6/2026-12-30/
LOCATION:Greater Portland Metro – Admin Conference Room\, 114 Valley Street\, Portland\, ME\, 04102\, United States
CATEGORIES:Executive Committee
END:VEVENT
BEGIN:VEVENT
DTSTART;TZID=America/New_York:20270113T153000
DTEND;TZID=America/New_York:20270113T163000
DTSTAMP:20260425T111330
CREATED:20260109T203633Z
LAST-MODIFIED:20260112T194647Z
UID:10000445-1799854200-1799857800@www.gpmetro.org
SUMMARY:Marketing and Communications Committee
DESCRIPTION:Topic: Metro Marketing and Communications Committee MeetingJoin from PC\, Mac\, iPad\, or Android:\nhttps://us02web.zoom.us/j/86595032479?pwd=osVQcjhTJlma7Y5dY1PiMWaaluV9fk.1\nPasscode:414334\n\nPhone one-tap:\n+16469313860\,\,86595032479# US\n+13017158592\,\,86595032479# US (Washington DC)\n\nJoin via audio:\n+1 646 931 3860 US\n+1 301 715 8592 US (Washington DC)Webinar ID: 865 9503 2479International numbers available: https://us02web.zoom.us/u/kgIlW8dbG \n\nShare
URL:https://www.gpmetro.org/event/marketing-and-communications-committee-6/2027-01-13/
LOCATION:Greater Portland Metro – Admin Conference Room\, 114 Valley Street\, Portland\, ME\, 04102\, United States
END:VEVENT
END:VCALENDAR